BEGIN:VCALENDAR
VERSION:2.0
PRODID:-//VCI Portal - ECPv6.0.11//NONSGML v1.0//EN
CALSCALE:GREGORIAN
METHOD:PUBLISH
X-WR-CALNAME:VCI Portal
X-ORIGINAL-URL:https://valuechangeinitiative.com
X-WR-CALDESC:Events for VCI Portal
REFRESH-INTERVAL;VALUE=DURATION:PT1H
X-Robots-Tag:noindex
X-PUBLISHED-TTL:PT1H
BEGIN:VTIMEZONE
TZID:America/New_York
BEGIN:DAYLIGHT
TZOFFSETFROM:-0500
TZOFFSETTO:-0400
TZNAME:EDT
DTSTART:20220313T070000
END:DAYLIGHT
BEGIN:STANDARD
TZOFFSETFROM:-0400
TZOFFSETTO:-0500
TZNAME:EST
DTSTART:20221106T060000
END:STANDARD
END:VTIMEZONE
BEGIN:VEVENT
DTSTART;TZID=America/New_York:20220921T090000
DTEND;TZID=America/New_York:20220921T150000
DTSTAMP:20230403T045652
CREATED:20211122T143045Z
LAST-MODIFIED:20220808T072318Z
UID:2424-1663750800-1663772400@valuechangeinitiative.com
SUMMARY:Food & Agriculture Working Group - Implementation
DESCRIPTION:Members in the Food and Agriculture Working Group seek to test the applicability of the VCI Guidance documents and concepts in the context of agricultural value chains\, to determine: \n• Critical gaps/concepts in the guidance that need to be adjusted\n• Where more detailed / sector-specific guidelines should be developed \nThis implementation meeting will explore implications for implementation pathways including topics such as third-party verification\, tools\, pilots and collective action.
URL:https://valuechangeinitiative.com/event/food-agriculture-working-group-implementation/
LOCATION:Second Floor NYC\, 849 6th Avenue\, New York\, 10001\, United States
CATEGORIES:member only
END:VEVENT
BEGIN:VEVENT
DTSTART;TZID=America/New_York:20220921T160000
DTEND;TZID=America/New_York:20220921T200000
DTSTAMP:20230403T045652
CREATED:20220906T132720Z
LAST-MODIFIED:20220906T144412Z
UID:3191-1663776000-1663790400@valuechangeinitiative.com
SUMMARY:Net Zero Value Chains: from commitment to credible reporting
DESCRIPTION:Register for the Net Zero Value Chains: from commitment to credible reporting & join us in New York! \nAbout this event\nWe are thrilled to invite you to Net Zero Value Chains: from commitment to credible reporting\, organized by the Value Change Initiative and held on Wednesday\, September 21\, 2022 from 4:00 pm – 8:00 pm EDT\, in New York. This will be a face to face event. \nIn the transition towards a climate resilient society\, bolder commitments\, scaled actions and accurate business reporting are key for success. Although almost 1100+ companies have now pledged to reach net-zero GHG emissions by 2050\, how can Scope 3/ value chain emissions reductions be achieved and credibly reported? \nBringing together leading experts organizations and forefront companies\, join us to hear how to move from ambition to action\, drive transparent and reliable Scope 3 data and achieve Net Zero Value Chains. \nAgenda \n4:00 Welcome \n4:10 Opening remarks by Marion Verles\, CEO SustainCERT \n4:20-4:45 Fireside chat – Unlocking Net Zero Value Chains by moving from ambitions to reporting \n\nLuiz Amaral\, CEO\, Science Based Targets initiative (SBTi)\n\n4.45 – 5.30 Panel session #1 – Towards COP 27: The role of regulators\, investors and standards in driving reliable and transparent value chain data towards achieving Net Zero ambitions \n\nPankaj Bhatia\, WRI\, Global Director\, GHG Protocol\nOwen Hewlett\, Chief Technical Officer\, Gold Standard\nMardi McBrien\, Director\, IFRS Foundation\nModerated by Pietro Bertazzi\, Global Director\, Policy Engagement & Public External Affairs\, CDP\n\n5.35 – 6.10 Panel session #2 – Achieving faster actions and driving investments through market-based mechanisms and collective action \n\nNoora Singh\, Senior Director\, Global Sustainability\, PepsiCo\nSteven Rosenzweig\, PhD\, Agriculture Science Lead General Mills\nMorgan Collins – Director\, Climate Innovation Fund\, Microsoft\n\n6:15 – Closing words \n6.30 – 8.00 – Networking reception \n  \nRegister here!
URL:https://valuechangeinitiative.com/event/net-zero-value-chains-from-commitment-to-credible-reporting/
LOCATION:Second Floor NYC\, 849 6th Avenue\, New York\, 10001\, United States
CATEGORIES:public
END:VEVENT
END:VCALENDAR