BEGIN:VCALENDAR
VERSION:2.0
PRODID:-//VCI Portal - ECPv6.0.11//NONSGML v1.0//EN
CALSCALE:GREGORIAN
METHOD:PUBLISH
X-WR-CALNAME:VCI Portal
X-ORIGINAL-URL:https://valuechangeinitiative.com
X-WR-CALDESC:Events for VCI Portal
REFRESH-INTERVAL;VALUE=DURATION:PT1H
X-Robots-Tag:noindex
X-PUBLISHED-TTL:PT1H
BEGIN:VTIMEZONE
TZID:Europe/Amsterdam
BEGIN:DAYLIGHT
TZOFFSETFROM:+0100
TZOFFSETTO:+0200
TZNAME:CEST
DTSTART:20230326T010000
END:DAYLIGHT
BEGIN:STANDARD
TZOFFSETFROM:+0200
TZOFFSETTO:+0100
TZNAME:CET
DTSTART:20231029T010000
END:STANDARD
END:VTIMEZONE
BEGIN:VEVENT
DTSTART;TZID=Europe/Amsterdam:20230412T150000
DTEND;TZID=Europe/Amsterdam:20230412T163000
DTSTAMP:20230403T043747
CREATED:20230327T150130Z
LAST-MODIFIED:20230327T150130Z
UID:3512-1681311600-1681317000@valuechangeinitiative.com
SUMMARY:Claims Lab - Session 1
DESCRIPTION:
URL:https://valuechangeinitiative.com/event/claims-lab-session-1/
CATEGORIES:member only
END:VEVENT
BEGIN:VEVENT
DTSTART;TZID=Europe/Amsterdam:20230424T153000
DTEND;TZID=Europe/Amsterdam:20230424T183000
DTSTAMP:20230403T043747
CREATED:20230206T094656Z
LAST-MODIFIED:20230206T094656Z
UID:3434-1682350200-1682361000@valuechangeinitiative.com
SUMMARY:Apparel Working Group II - Session 2
DESCRIPTION:
URL:https://valuechangeinitiative.com/event/apparel-working-group-ii-session-2/
CATEGORIES:member only
END:VEVENT
BEGIN:VEVENT
DTSTART;TZID=Europe/Amsterdam:20230614T150000
DTEND;TZID=Europe/Amsterdam:20230614T163000
DTSTAMP:20230403T043747
CREATED:20230327T150313Z
LAST-MODIFIED:20230327T150313Z
UID:3514-1686754800-1686760200@valuechangeinitiative.com
SUMMARY:Claims Lab - Session 2
DESCRIPTION:
URL:https://valuechangeinitiative.com/event/claims-lab-session-2/
CATEGORIES:member only
END:VEVENT
BEGIN:VEVENT
DTSTART;TZID=Europe/Amsterdam:20230628T153000
DTEND;TZID=Europe/Amsterdam:20230628T183000
DTSTAMP:20230403T043747
CREATED:20230206T094802Z
LAST-MODIFIED:20230206T094802Z
UID:3435-1687966200-1687977000@valuechangeinitiative.com
SUMMARY:Apparel Working Group II - Session 3
DESCRIPTION:
URL:https://valuechangeinitiative.com/event/apparel-working-group-ii-session-3/
CATEGORIES:member only
END:VEVENT
BEGIN:VEVENT
DTSTART;TZID=Europe/Amsterdam:20230719T150000
DTEND;TZID=Europe/Amsterdam:20230719T163000
DTSTAMP:20230403T043747
CREATED:20230327T150434Z
LAST-MODIFIED:20230327T150434Z
UID:3516-1689778800-1689784200@valuechangeinitiative.com
SUMMARY:Claims Lab - Session 3
DESCRIPTION:
URL:https://valuechangeinitiative.com/event/claims-lab-session-3/
CATEGORIES:member only
END:VEVENT
BEGIN:VEVENT
DTSTART;TZID=Europe/Amsterdam:20230913T153000
DTEND;TZID=Europe/Amsterdam:20230913T183000
DTSTAMP:20230403T043747
CREATED:20230206T095006Z
LAST-MODIFIED:20230206T095006Z
UID:3436-1694619000-1694629800@valuechangeinitiative.com
SUMMARY:Apparel Working Group II - Session 4
DESCRIPTION:
URL:https://valuechangeinitiative.com/event/apparel-working-group-ii-session-4/
CATEGORIES:member only
END:VEVENT
BEGIN:VEVENT
DTSTART;TZID=Europe/Amsterdam:20230920T150000
DTEND;TZID=Europe/Amsterdam:20230920T163000
DTSTAMP:20230403T043747
CREATED:20230327T150556Z
LAST-MODIFIED:20230327T150556Z
UID:3518-1695222000-1695227400@valuechangeinitiative.com
SUMMARY:Claims Lab - Session 4
DESCRIPTION:
URL:https://valuechangeinitiative.com/event/claims-lab-session-4/
CATEGORIES:member only
END:VEVENT
BEGIN:VEVENT
DTSTART;TZID=Europe/Amsterdam:20231023T153000
DTEND;TZID=Europe/Amsterdam:20231023T183000
DTSTAMP:20230403T043747
CREATED:20230206T095132Z
LAST-MODIFIED:20230206T095132Z
UID:3437-1698075000-1698085800@valuechangeinitiative.com
SUMMARY:Apparel Working Group II - Session 5
DESCRIPTION:
URL:https://valuechangeinitiative.com/event/apparel-working-group-ii-session-5/
CATEGORIES:member only
END:VEVENT
BEGIN:VEVENT
DTSTART;TZID=Europe/Amsterdam:20231108T150000
DTEND;TZID=Europe/Amsterdam:20231108T163000
DTSTAMP:20230403T043747
CREATED:20230327T150709Z
LAST-MODIFIED:20230327T150709Z
UID:3520-1699455600-1699461000@valuechangeinitiative.com
SUMMARY:Claims Lab - Session 5
DESCRIPTION:
URL:https://valuechangeinitiative.com/event/claims-lab-session-5-2/
CATEGORIES:member only
END:VEVENT
END:VCALENDAR